BEGIN:VCALENDAR
VERSION:2.0
PRODID:-//Stadtgeschichte München//DE
CALSCALE:GREGORIAN
BEGIN:VEVENT
UID:11319@stadtgeschichte-muenchen.de
SUMMARY:Haidhausen und das Bier
DESCRIPTION:Dieser ungewöhnliche Bier-Geschichten-Spaziergan mit Biersommelier Klaus Artmann zeigt die Vielfalt lebendiger Münchner Bierkultur. Zwischen Wiener Platz und Ostbahnhof hören Sie von Bierkellern Brauereien Wirtshäusern und neuen Gastronomiekonzepten Ein&nbsp;Highlight unterwegs ist eine Bierverkostung von Spezialitäten aus dem Alpenraum. Immer wieder bleibt Zeit für die Bier-Stadtgeschichte, das Reinheitsgebot und ein Bier-Quiz. Nach den „Biergeschichten to go\" kann jeder den Abend nach Lust und Laune im Tap-House ausklingen lassen.&nbsp;
DTSTART:20160707T183000
DTEND:20160707T210000
LOCATION:Wiener Platz, am Maibaum
ORGANIZER:MVHS München Mitte   
END:VEVENT
END:VCALENDAR