BEGIN:VCALENDAR
VERSION:2.0
PRODID:-//Stadtgeschichte München//DE
CALSCALE:GREGORIAN
BEGIN:VEVENT
UID:11475@stadtgeschichte-muenchen.de
SUMMARY:Neue Pläne für Münchens Großmarkthalle
DESCRIPTION:&lt;p&gt;Das Areal der Großmarkthalle und dessen Umfeld nahe der Isar ist in die Jahre gekommen, soll grundlegend unter Berücksichtigung des Denkmalschutze saniert werden und neue Nutzungen mit aufnehmen. Seit 1912 besteht der Großhandelsmarkt, 2007 wurden die bis dahin selbstständigen Betriebsteile Großmarkthalle und Schlachthof zu einem kommunalen Betrieb der Stadt München vereint Fakten über Entstehung, Geschichte und Entwicklung der Gebäude liefert Klaus Huber, Hist Arbeitskreis Sendling. Ernst Dill, BA 6, erläutert die zukünftige Planungen und zeigt vorliegende Ergebnisse.&amp;nbsp;&lt;/p&gt; 
DTSTART:20160707T163000
DTEND:20160707T183000
LOCATION:Treffpunkt:w ird mitgeteilt
ORGANIZER:MVHS München Süd
END:VEVENT
END:VCALENDAR