BEGIN:VCALENDAR
VERSION:2.0
PRODID:-//Stadtgeschichte München//DE
CALSCALE:GREGORIAN
BEGIN:VEVENT
UID:12067@stadtgeschichte-muenchen.de
SUMMARY:Dotschland, Dotschland über Alles
DESCRIPTION:Anmeldungen bitte an: rudolf@hartbrunner.de&nbsp; Geschichte und Geschichten zum Münchner Alltag 1914 bis 1918 Am 1. August 1914 verkündet König Ludwig III. die Mobilmachung. In den Münchner Kasernen sind 52.000 Soldaten stationiert. Die Zivilbevölkerung aber leidet alsbald Hunger und Not. Als Ersatzlebensmittel werden in den Stadtteilen Dotschen, also Steckrüben oder auch \"Wrunken“, verkauft. &nbsp;Den Winter 1916/17 nennen die Münchnern nur noch den \"Dotschenwinter“. In der Münchner Innenstadt kommt es zu Demonstrationen und Protest-Kundgebungen. &nbsp;Inzwischen wird sogar das ohnehin nur noch aus aus Eisen bestehende Kleingeld knapp. Hermann Wilhelm (Haidhausen-Museum)&nbsp;und Rudolf Hartbrunner (Stadtführer) &nbsp;berichten mit Filmausschnitten&nbsp;und zahlreichen Bildern über diese aus den Fugen geratene Zeit.&nbsp;
DTSTART:20160918T110000
DTEND:20160918T130000
LOCATION:KiM Kino im Einstein, Einsteinstraße 42 
ORGANIZER:Haidhausen Museum
END:VEVENT
END:VCALENDAR