BEGIN:VCALENDAR
VERSION:2.0
PRODID:-//Stadtgeschichte München//DE
CALSCALE:GREGORIAN
BEGIN:VEVENT
UID:12165@stadtgeschichte-muenchen.de
SUMMARY:Mundart: Boarische Gschichten aus München
DESCRIPTION:Mia san mia - aber wer sind wir eigentlich? Wir spazieren in den Fußstapfen berühmter Münch- nerinnen und Münchner zu Wirtshäusern, Höfen und Hintertürchen, schaun den Originalen auf den Mund und ergründen den Alt-Münchner Hu- mor. Achtung: reine Mundartführung!&nbsp;
DTSTART:20161020T153000
DTEND:20161020T170000
LOCATION: Alter Hof beim Brunnen
ORGANIZER:VHS SüdOst Landkreis München
END:VEVENT
END:VCALENDAR