BEGIN:VCALENDAR
VERSION:2.0
PRODID:-//Stadtgeschichte München//DE
CALSCALE:GREGORIAN
BEGIN:VEVENT
UID:12201@stadtgeschichte-muenchen.de
SUMMARY:München * Weinstadt &amp; Biermetropole
DESCRIPTION:&lt;p&gt;Bis zum Ende des 16. Jahrhunderts war der Wein in München das dominierende Volksgetränk. &amp;nbsp; &amp;nbsp;&lt;/p&gt; &lt;p&gt;Obwohl hier auch Wein angebaut wurde, war München dennoch mehr ein Verbrauchszentrum und Handelsplatz für Wein. &amp;nbsp; &amp;nbsp;&lt;/p&gt; &lt;p&gt;Von Mittenwald kamen mit dem Floß die &quot;Welschweine&quot; sowie die teueren &quot;Südweine&quot;, als Rückfracht der Salzlieferungen nach Württemberg und die Schweiz kamen &quot;Neckarweine&quot; und &quot;Elsässerweine&quot; in die Stadt. &amp;nbsp; &amp;nbsp;&lt;/p&gt; &lt;p&gt;Erst im Zeitalter des Merkantilismus setzte sich das Bier - gefördert vom Herzogshaus - als Volksgetränk durch und drängte den Wein in den Hintergrund. München entwickelte sich zur Biermetropole mit weltweitem Exportgeschäft.&amp;nbsp;&lt;/p&gt; &lt;h1&gt;&amp;nbsp;&lt;/h1&gt; 
DTSTART:20161020T140000
DTEND:20161020T163000
LOCATION:Marienplatz * Mariensäule
ORGANIZER:MVHS München Mitte   
END:VEVENT
END:VCALENDAR