BEGIN:VCALENDAR
VERSION:2.0
PRODID:-//Stadtgeschichte München//DE
CALSCALE:GREGORIAN
BEGIN:VEVENT
UID:12506@stadtgeschichte-muenchen.de
SUMMARY:Zu Gast beim Bayerischen Rundfunk
DESCRIPTION:&lt;p&gt;Die BR-Zentrale steht im Herzen Münchens. Der Intendant, die Direktorinnen, Direktoren und Mitarbeiter aus unterschiedlichen Bereichen wie Hörfunk, Multi- media, Marketing, Pressestelle, Technik, Verwaltung und Recht haben dort ihren Sitz. Im Funkhaus produzieren die Redaktionen das Programm für Bayern 1, Bay- ern 2, Bayern 3, BR Klassik, B5 aktuell und die digitalen Radioangebote. Die Tour geht durch die Produktions- und Sendebereiche.&lt;/p&gt; &lt;p&gt;Aus Platz- und Sicherheitsgründen können nur angemeldete Personen teilnehmen!&lt;br /&gt; Die Führung ist von Seiten des BR kostenlos.&lt;/p&gt; 
DTSTART:20170213T170000
DTEND:20170213T183000
LOCATION:Arnulfstr. 42/44 - Foyer
ORGANIZER:DGB-Bildungswerk Bayern e.V. Region München
END:VEVENT
END:VCALENDAR