BEGIN:VCALENDAR
VERSION:2.0
PRODID:-//Stadtgeschichte München//DE
CALSCALE:GREGORIAN
BEGIN:VEVENT
UID:12578@stadtgeschichte-muenchen.de
SUMMARY:Wohnen innovativ – neue Sonderbauten
DESCRIPTION:&lt;p&gt;Der wachsende Druck auf den Münchner Wohnungsmarkt erfordert kreative Lösungen, die zum Teil nicht dem Standart entsprechen. Bei der Tour werden einige Innovationsprojekte vorgestellt: die Überbauung des Parkplatzes am Dantebad, Pilotprojekt der Gewofag im Wohnungsbausofortprogramm &quot;Wohnen für Alle&quot; (Nagler Architekten), die erneuerten Studentenbungalows im Olympischen Dorf (Arge Werner Wirsing, bogevischs buero Architekten &amp;amp; Stadtplaner GmbH) und die Gewofag-Schallschutzbebauung am Innsbrucker Ring (Krieger Architekten). Ende der Tour: U-Bahnstation &quot;Innsbrucker Ring&quot; (U2, U5).&lt;/p&gt; &lt;p&gt;Zur Teilnahme melden Sie sich bitte verbindlich an:&amp;nbsp;&lt;a href=&quot;mailto:plantreff@muenchen.de&quot;&gt;plantreff@muenchen.de&lt;/a&gt;&amp;nbsp;oder telefonisch unter 233-22942 (maximale Teilnehmerzahl pro Tour: 30 Personen)&lt;/p&gt; 
DTSTART:20170210T150000
DTEND:20170210T173000
LOCATION:U-Bahnstation „Westfriedhof“ (U1), Bahnsteigmitte
ORGANIZER:Rathausgalerie | Kunsthalle
END:VEVENT
END:VCALENDAR