BEGIN:VCALENDAR
VERSION:2.0
PRODID:-//Stadtgeschichte München//DE
CALSCALE:GREGORIAN
BEGIN:VEVENT
UID:12755@stadtgeschichte-muenchen.de
SUMMARY:Straßennamen im Münchner Norden
DESCRIPTION:&lt;p&gt;Im Münchner Norden sind über 70 Straßen nach Verfolgten und Gegnern des NS-Regimesb enannt, darunter der Curt-Mezger-Platz, die Freudstraße oder die Witzlebenstraße. Die Ausstellung erläutert die Hintergründe der Benennung durch die Stadt München und zeigt Leistung und Schicksal der Namensgeber.&lt;/p&gt; &lt;p&gt;Dr. Reinhard Bauer führt bei dieser Veranstaltung durch die Ausstellung und den nahen Stadtteil Harthof, in dem viele dieser Straßen liegen, an denen inzwischen auch Erläuterungstafeln angebracht sind.&lt;/p&gt; &lt;p&gt;In Kooperation mit dem KulturhistorischenV erein Feldmochinga uf dem Gfild e. V und dem Kulturreferat der Landeshauptstadt München.&lt;/p&gt; 
DTSTART:20170401T150000
DTEND:20170401T180000
LOCATION:Volkshochschule · Kulturzentrum 2411 · Blodigstr.  4 
ORGANIZER:MVHS München Nord
END:VEVENT
END:VCALENDAR