BEGIN:VCALENDAR
VERSION:2.0
PRODID:-//Stadtgeschichte München//DE
CALSCALE:GREGORIAN
BEGIN:VEVENT
UID:13010@stadtgeschichte-muenchen.de
SUMMARY:Die Restaurierungswerkstatt für Bau- und Kunstdenkmalpflege
DESCRIPTION:&lt;p&gt;Die Restaurierungswerkstätten für Bau-und Kunstdenkmalpflege am Bayerischen Landesamt für Denkmalpflege betreuen alle Restaurierungsmaßnahmen an Baudenkmälern in Bayern. Im Einzelfall setzen sie selbst Restaurierungen um. Die Werkstätten umfassen die Fachbereiche Wandmalerei, Gemälde, Skulptur, Möbel, Textil, Metall und Stein. Die Führung durch die Werkstätten in der Alten Münze gibt Ihnen Einblicke in aktuelle Projekte und denkmalpflegerisch-restauratorische Grundsätze.&lt;/p&gt; 
DTSTART:20170518T150000
DTEND:20170518T163000
LOCATION:Bayer. Landesamt für Denkmalpflege · Hofgraben 4
ORGANIZER:MVHS München Mitte   
END:VEVENT
END:VCALENDAR