BEGIN:VCALENDAR
VERSION:2.0
PRODID:-//Stadtgeschichte München//DE
CALSCALE:GREGORIAN
BEGIN:VEVENT
UID:13964@stadtgeschichte-muenchen.de
SUMMARY:Berg am Laim: St. Michael und Kreuzwegstationen
DESCRIPTION:&lt;p&gt;Die ehemalige Hof- und Bruderschaftskirche St. Michael ist ein Denkmal von europäischem Rang. Seit ihrer Renovierung erstrahlt die Rokokokirche wieder in ihrem ursprünglichen Glanz. Wie die großen Schlossbauten in und um München wurde die heutige Pfarrkirche von Berg am Laim von einem Wittelsbacher erbaut. Nach der Kirchenführung besuchen wir den großen Garten des ehemaligen Instituts der Englischen Fräulein (heute die Maria-Ward-Mädchenrealschule) und besichtigen einen Kreuzweg aus der Mitte des 19. Jahrhunderts, der hier mit seinen 14 Stationen versteckt hinter Büschen und Bäumen liegt.&lt;br /&gt; Für die Führung im Garten brauchen Sie festes Schuhwerk!&lt;/p&gt; 
DTSTART:20171013T140000
DTEND:20171013T160000
LOCATION:St. Michael, Johann-Michael-Fischer- Platz
ORGANIZER:MVHS München Ost
END:VEVENT
END:VCALENDAR