BEGIN:VCALENDAR
VERSION:2.0
PRODID:-//Stadtgeschichte München//DE
CALSCALE:GREGORIAN
BEGIN:VEVENT
UID:14724@stadtgeschichte-muenchen.de
SUMMARY:München - Weltstadt des Bieres
DESCRIPTION:&lt;p&gt;Einige der hiesigen Brauereien blicken auf eine jahrhundertelange Brautätigkeit zurück: vom Hausbrauen zu den bürgerlichen Kleinbrauereien, über die Blütezeit mit 80 Brauereien zum Brauereisterben während der Industrialisierung, dem Aufstieg der Bierbarone und der Errichtung der Bierpaläste. Erläutert werden auch Münchner Besonderheiten wie die Abhängigkeit der Brauer vom Herzog, die wechselnden Trinkgewohnheiten der Münchner sowie die Urmünchner Einrichtung des Biergartens.&lt;/p&gt; 
DTSTART:20180720T163000
DTEND:20180720T180000
LOCATION:Treffpunkt: Sendlinger Tor (unter dem Torbogen)
ORGANIZER:MVHS München Mitte   
END:VEVENT
END:VCALENDAR