BEGIN:VCALENDAR
VERSION:2.0
PRODID:-//Stadtgeschichte München//DE
CALSCALE:GREGORIAN
BEGIN:VEVENT
UID:14766@stadtgeschichte-muenchen.de
SUMMARY:Freising - die „geistliche Stadt“
DESCRIPTION:&lt;p&gt;Der Volkskundler Hofmiller sagte einmal, die Abneigung der Münchner nordwärts zu wandern, beginne bereits beim „Aumeister“ - deshalb sei Freising den meisten unbekannt! Aber das wird sich nach diesem Ausflug geändert haben. Sie kennen dann den Domberg mit seinen prächtigen Kirchen, die historische Bürgerstadt mit der gotischen Pfarrkirche, sowie die barocke Kirche St. Peter und Paul in Neustift mit den großartigen Werken von Ignaz Günther. Die Dauer der Führung beträgt ca. 5 Stunden und wird für eine Mittagspause unterbrochen.&lt;br /&gt; In Zusammenarbeit mit der vhs Taufkirchen.&lt;/p&gt; 
DTSTART:20180611T101500
DTEND:20180611T161500
LOCATION:S-Bahn Freising; Bahnhofsplatz Ausgang Richtung Stadt
ORGANIZER:MVHS
END:VEVENT
END:VCALENDAR