BEGIN:VCALENDAR
VERSION:2.0
PRODID:-//Stadtgeschichte München//DE
CALSCALE:GREGORIAN
BEGIN:VEVENT
UID:16305@stadtgeschichte-muenchen.de
SUMMARY:Schloss Nymphenburg und seine Bewohner
DESCRIPTION:&lt;p&gt;Knapp 350 Jahre europäische Kulturgeschichte zeigt sich in allen Winkeln des Schlosses. Jede Generation des Hauses Wittelsbach hat hier ihre Spuren hinterlassen. Auf unserem Rundgang erfahren wir etwas über Einzelschicksale der Schlossbewohner und ihre Lebensumstände. Zum „Internationalen Tag der Muttersprache&quot; reflektiert die Führung auf Münchnerisch Lehnwörter wie „Potschamberl&quot; und „Gspusi&quot;, in denen politische und kulturelle Einflüsse zum Ausdruck kommen.&lt;/p&gt; 
DTSTART:20190222T140000
DTEND:20190222T153000
LOCATION:Schloss Nymphenburg, vor Freitreppe
ORGANIZER:MVHS München West
END:VEVENT
END:VCALENDAR