BEGIN:VCALENDAR
VERSION:2.0
PRODID:-//Stadtgeschichte München//DE
CALSCALE:GREGORIAN
BEGIN:VEVENT
UID:16507@stadtgeschichte-muenchen.de
SUMMARY:,,Der Abend kommt so schnell&quot; und ,,Das Wintermärchen&quot;
DESCRIPTION:&lt;p&gt;Sarah Sonja Lerch organisiert Anfang 1918 an der Seite Kurt Eisners einen pazifistischen Aufstand, landet im Gefängnis und stirbt dort. Diese Streiks waren die Vorboten der Revolution, der Geburtsstunde unserer Demokratie.&lt;br /&gt; Cornelia Naumann Dramaturgin&lt;br /&gt; Ralf Höller Schriftsteller und Journalist&lt;/p&gt; 
DTSTART:20181122T190000
DTEND:20181122T000000
LOCATION:Rathausgeleria/Kunsthalle
ORGANIZER:ver.di Kulturforum Bayern in München
END:VEVENT
END:VCALENDAR