BEGIN:VCALENDAR
VERSION:2.0
PRODID:-//Stadtgeschichte München//DE
CALSCALE:GREGORIAN
BEGIN:VEVENT
UID:16934@stadtgeschichte-muenchen.de
SUMMARY:Stadtlandschaft Schlachthof
DESCRIPTION:&lt;p&gt;Ein großer Moscheeverein, griechische Tavernen, eine bunt gemischte Wohnbevölkerung, ein einmaliges städtebauliches Ensemble und bizarre Stadtlandschaften entlang des Bahngeländes... Unweit des Zentrums tut sich eine eigene Welt auf, in der die Uhren langsamer zu gehen scheinen und die doch seit 150 Jahren im Münchner Wirtschaftsleben eine wichtige Rolle spielt. Die anstehende Neustrukturierung des Viehhofgeländes gibt Anlass zu vielfältigen Diskussionen bei Bewohnern und Stadtvertretern. Zum Abschluss können Sie in einem Marktstüberl am Viehhofgelände frische Weißwürste genießen (optional, Selbstzahler).&lt;/p&gt; 
DTSTART:20190712T110000
DTEND:20190712T130000
LOCATION:vor dem Lindwurmstüberl, Lindwurmstr. 32  
ORGANIZER:MVHS München Mitte   
END:VEVENT
END:VCALENDAR