BEGIN:VCALENDAR
VERSION:2.0
PRODID:-//Stadtgeschichte München//DE
CALSCALE:GREGORIAN
BEGIN:VEVENT
UID:18872@stadtgeschichte-muenchen.de
SUMMARY:Auf den Spuren des KulturGeschichtsPfads
DESCRIPTION:&lt;p&gt;Die Autorin des KulturGeschichtsPfads Milbertshofen-Am Hart, Dr. Karin Pohl, nimmt Sie mit auf Entdeckungstour durch den nördlichen Teil des 11. Stadtbezirks. Vom Denkmal für das ehemalige „Judenlager&quot; an der Knorrstraße führt die Tour durch die in den 1930er Jahren gebauten Kleinsiedlungen Am Hart, Kaltherberge und Neuherberge und die „Volkswohnanlage&quot; Harthof. Vorbei an der ehemaligen SS-Kaserne, später „Warner Kaserne&quot; und der daneben errichteten Wohnsiedlung geht es zur modernen Siedlung Nordhaide auf der ehemaligen Panzerwiese. Die Strecke beträgt ca. 6,6 Kilometer.&lt;/p&gt; 
DTSTART:20200524T103000
DTEND:20200524T130000
LOCATION:Denkmal ehemaliges Judenlager • Knorrstr./Ecke Troppauer Str.
ORGANIZER:MVHS München Nord
END:VEVENT
END:VCALENDAR