BEGIN:VCALENDAR
VERSION:2.0
PRODID:-//Stadtgeschichte München//DE
CALSCALE:GREGORIAN
BEGIN:VEVENT
UID:19592@stadtgeschichte-muenchen.de
SUMMARY:Luise-Kiesselbach-Platz –
DESCRIPTION:&lt;p&gt;Im Mittelpunkt unseres Rundganges steht der Umbau des Luise-Kiesselbach-Platzes mit der Untertunnelung der Garmischer Straße. Beherrschendes Bauwerk dieses Platzes bleibt das Altersheim, das vom Stadtbaurat Hans Grässel ab 1925 als ein „Gesamtkunstwerk“ errichtet worden ist. Die großzügige Anlage dominiert eine bemerkenswerte neubarocke Kirche. Vor wenigen Jahren war Grässels 70. Todestag Anlass, sich mit dessen modern-historisierender Formensprache und seinen richtungsweisenden Bauten zu beschäftigen. Zum „Drumherum“ gehört auch eine großzügige Wiesenfläche (durch Bürgerentscheid vor Teilbebauung gerettet) mit Maibaum, der „Boulevard“ entlang der Garmischer Straße. Zum Abschluss besuchen wir (im Galeriewagen) zwei Ausstellungen mit Fotos des Viertels sowie historischen Familienfotos. Eine Kooperationsveranstaltung im Rahmen der Stadtteilwoche „Sendling-Westpark“ des Kulturreferates der LHM mit dem Bezirksausschuss 7 Sendling-Westpark, der Seniorenvertretung Sendling-Westpark und dem Münchner Forum.&amp;nbsp;&lt;/p&gt; 
DTSTART:20210717T160000
DTEND:20210717T170000
LOCATION:Galeriewagen auf dem Luise-KiesselbachPlatz
ORGANIZER:Münchner Forum
END:VEVENT
END:VCALENDAR