BEGIN:VCALENDAR
VERSION:2.0
PRODID:-//Stadtgeschichte München//DE
CALSCALE:GREGORIAN
BEGIN:VEVENT
UID:19601@stadtgeschichte-muenchen.de
SUMMARY:Spurensuche zu den Lieblingsorten und den &quot;Baustellen&quot; im Kunstareal
DESCRIPTION:&lt;p&gt;Sieben Jahre liegt das &quot;Bürgergutachten zum Kunstareal München&quot; nun vor. Das Münchner Forum e.V. erinnert an das Verfahren und die Ergebnisse und führt zu den erfolgreichen Maßnahmen sowie den ungelösten Planungsund Verkehrsthemen.&amp;nbsp;&lt;/p&gt; 
DTSTART:20210717T170000
DTEND:20210717T183000
LOCATION:DesignBuild-Pavillon zwischen Türkentor und Pinakothek der Moderne
ORGANIZER:Münchner Forum
END:VEVENT
END:VCALENDAR