BEGIN:VCALENDAR
VERSION:2.0
PRODID:-//Stadtgeschichte München//DE
CALSCALE:GREGORIAN
BEGIN:VEVENT
UID:19930@stadtgeschichte-muenchen.de
SUMMARY:Überblicksführung Museum Brandhorst
DESCRIPTION:&lt;p&gt;Seit seiner Eröffnung im Jahr 2009 beherbergte das Museum Brandhorst zahlreiche wichtige Ausstellungen. Den zehnten Geburtstag im Mai 2019 nahm das Haus zum Anlass, um eine großangelegte Werkschau der eigenen Bestände zu zeigen. Konstante während dieser Tätigkeit waren immer die Arbeiten des amerikanischen Künstlers Cy Twombly, der das Museum durch seinen &quot;Lepanto-Saal&quot; entscheidend mitprägte. Ausgehend von der ständigen Sammlung, werden wir uns Neuankäufe ansehen und den Kosmos Twomblys entdecken.&lt;br /&gt; In dieser Führung durch das Museum Brandhorst werden wir ausgewählte Werke gemeinsam betrachten und eines der wichtigsten Museen für Gegenwartskunst in München auf neue Weise erkunden.&lt;/p&gt; 
DTSTART:20211017T101500
DTEND:20211017T114500
LOCATION:Museum, Theresienstr. 35a, Foyer
ORGANIZER:DGB-Bildungswerk Bayern e.V. Region München
END:VEVENT
END:VCALENDAR