BEGIN:VCALENDAR
VERSION:2.0
PRODID:-//Stadtgeschichte München//DE
CALSCALE:GREGORIAN
BEGIN:VEVENT
UID:20018@stadtgeschichte-muenchen.de
SUMMARY:Münchner Künstlern auf der Spur
DESCRIPTION:&lt;p&gt;Während eines vergnüglichen Rundgangs besuchen wir die Wohnorte von Münchner Künstlern und erinnern an ihre Bedeutung für die hiesige Kunst - Szene. Einige Häuser künden auch vom Werk ihrer Bewohner. Lassen Sie sich überraschen...&lt;/p&gt; 
DTSTART:20211017T140000
DTEND:20211017T000015
LOCATION:Fischbrunnen Marienplatz
ORGANIZER:Münchner Bildungswerk e.V.
END:VEVENT
END:VCALENDAR