BEGIN:VCALENDAR
VERSION:2.0
PRODID:-//Stadtgeschichte München//DE
CALSCALE:GREGORIAN
BEGIN:VEVENT
UID:20853@stadtgeschichte-muenchen.de
SUMMARY:Stadtteilspaziergang auf dem südlichen Heideweg
DESCRIPTION:&lt;p&gt;Die Exkursion führt vom Naturschutzgebiet Südliche Fröttmaninger Heide zum Naturschutzgebiet Panzerwiese/Hartelholz. Diese Gebiete im Norden von München weisen eine interessante und sehenswerte Geologie, Flora und Fauna auf. Gleichzeitig unterliegen die Gebiete einem hohen Nutzungsdruck durch Erholungssuchende. Eine gute Nachbarschaft der Erholungssuchenden mit den Schutzgebieten ist notwendig.&lt;/p&gt; &lt;p&gt;Sie erhalten einen Überblick über die Lebensräume, Flora und Fauna der Heideflächen mit Wäldern und die Pflegeaktivitäten des Naturschutzes, z. B. durch die Beweidung mit Schafen. Die Tour endet in der Nähe der U-Bahn-Station Dülferstraße.&lt;/p&gt; &lt;p&gt;&amp;nbsp;&lt;/p&gt; 
DTSTART:20220730T100000
DTEND:20220730T140000
LOCATION:HeideHaus (U6 Fröttmaning), Admiralbogen 77
ORGANIZER:MVHS
END:VEVENT
END:VCALENDAR