BEGIN:VCALENDAR
VERSION:2.0
PRODID:-//Stadtgeschichte München//DE
CALSCALE:GREGORIAN
BEGIN:VEVENT
UID:21176@stadtgeschichte-muenchen.de
SUMMARY:Die Maxvorstadt: Das kulturelle Zentrum Münchens
DESCRIPTION:&lt;p&gt;Bei der Maxvorstadt handelt es sich um eine sehr frühe, planmäßige Stadterweiterung, initiiert von König Max I. Joseph ab 1805. Sein Sohn, Ludwig L, ließ gegen große Widerstände die Ludwigstraße mit der Ludwigskirche, den Königsplatz, die Glyptothek und die Alte Pinakothek erbauen. Später folgten die Neue Pinakothek und - erst vor einigen Jahren - die Pinakothek der Moderne. Auch zwei Konzertsäle gab es, Klenzes Odeon und Dülfers Tonhalle (beide im Krieg zerstört). Die Universität und die ehemalige Technische Hochschule (heute Technische Universität) prägten ebenso wie die Kunstakademie das Viertel und auch die Wohnbevölkerung: Künstler, Gelehrte und Studenten. Der ehern. Führerbau und das ehern. Parteigebäude (heute Musikhochschule und Zentralinstitut für Kunstgeschichte) repräsentieren beim Königsplatz das III. Reich.&lt;/p&gt; 
DTSTART:20220424T130000
DTEND:20220424T150000
LOCATION:U-Bahn Universität, Ausgang Ludwigskirche
ORGANIZER:DGB-Bildungswerk Bayern e.V. Region München
END:VEVENT
END:VCALENDAR