BEGIN:VCALENDAR
VERSION:2.0
PRODID:-//Stadtgeschichte München//DE
CALSCALE:GREGORIAN
BEGIN:VEVENT
UID:21506@stadtgeschichte-muenchen.de
SUMMARY:Mittersendling und ein wenig bekannter Bierpalast
DESCRIPTION:&lt;p&gt;Mittersendling hat nach dem Zweiten Weltkrieg wesentliche Veränderungen erfahren: durch die alte Dorfstraße, die heutige Fallstraße fuhr ehemals die Trambahn; die Isarhang-Kante wurde durch Schuttaufschüttungen weiter nach Osten verlegt, die Heckenstallerstrasse durchschneidet nach ihrem Ausbau zur Stadtautobahn das ehemalige Dorfgebiet. Die barocke St. Achaz-Kirche war bereits in den zwanziger Jahren abgerissen worden (dabei ging ein Asam-Fresko verloren); der Neubau orientiert sich am ursprünglichen Erscheinungsbild, wurde allerdings wesentlich vergrößert wieder aufgebaut. Auf unserem Rundgang werden wir einen zum Städtischen Bauhof umgewidmeten Bauernhof und einen aufgelassenen Biergarten sehen und in einem anderen, bei der ehemaligen &quot;Königlich privilegierten Haupt-Schützengesellschaft&quot; einkehren, für deren Festsaal August v. Kaulbach die Kellnerin Coletta, als die berühmte &quot;Schützenliesl&quot; gemalt hat.&lt;/p&gt; 
DTSTART:20221105T140000
DTEND:20221105T160000
LOCATION:Am Harras, vor dem Eingang der Post
ORGANIZER:DGB-Bildungswerk Bayern e.V. Region München
END:VEVENT
END:VCALENDAR