BEGIN:VCALENDAR
VERSION:2.0
PRODID:-//Stadtgeschichte München//DE
CALSCALE:GREGORIAN
BEGIN:VEVENT
UID:21560@stadtgeschichte-muenchen.de
SUMMARY:Vielfältige Mobilität: vom Kolumbusplatz über den Giesinger Berg zum Nockherberg
DESCRIPTION:&lt;p&gt;Giesing ist interessant. Es befindet sich im Wandel und ist dadurch sehr wechselhaft und für München eher untypisch. Vier Themen der Mobilität in vier Stationen:&lt;br /&gt; 1) Die autogerechte Stadt war gestern, oder doch nicht? Der Giesinger Berg mit der \'Fußgänger-Unterführung des Grauens\'.&lt;br /&gt; 2) Wem gehört die Straße, wer hat das Wegerecht? Multimodale Beobachtungen auf der belebten Tegernseer Landstraße.&lt;br /&gt; 3) Brücken als gestaltende Elemente und wichtige Rad- und Fußweg Verbindungen – aber auch als Nadelöhr.&lt;br /&gt; 4) Die Eisenbahn versteckt sich - ein klimafreundlicher Taktgeber für ein polyzentrisches Stadtgefüge?&lt;/p&gt; &lt;p&gt;&lt;em&gt;Max Matheisen, Münchner Forum&lt;br /&gt; Treffpunkt: Stillgelegte Bushaltestelle &quot;Halt 58&quot; an der U-Bahn Station Kolumbusplatz&lt;br /&gt; Dauer: 1,5 bis 2 Stunden&lt;/em&gt;&lt;/p&gt; 
DTSTART:20221015T130000
DTEND:20221015T150000
LOCATION:U-Bahn-Station Kolumbusplatz
ORGANIZER:Münchner Forum
END:VEVENT
END:VCALENDAR