BEGIN:VCALENDAR
VERSION:2.0
PRODID:-//Stadtgeschichte München//DE
CALSCALE:GREGORIAN
BEGIN:VEVENT
UID:23351@stadtgeschichte-muenchen.de
SUMMARY:Das verborgene Schienennetz
DESCRIPTION:&lt;p&gt;Was tauchen da für Gleise auf, die kurz darauf unter Beton oder im Dickicht verschwinden? Dies fragte sich Jochen Gottlieb beim Spaziergang. In seinem Vortrag stellt er die Ergebnisse seiner privaten Recherche vor: Ausgehend vom Bahnhof Mittersendling führte ein heute weitgehend verfallenes Industrieschienennetz zu Unternehmen wie Agfa, Katzenberger oder zum Heizkraftwerk. Mittersendling war zudem Umsteigebahnhof für Urlaubende (Direktverbindung Dortmund-Sendling!) zur Weiterfahrt in die Berge. Noch heute existieren alte Gleisstücke und &quot;vergessene&quot; Waggons.&lt;/p&gt; 
DTSTART:20231205T180000
DTEND:20231205T193000
LOCATION:Volkshochschule Albert-Roßhaupter-Str. 8
ORGANIZER:MVHS
END:VEVENT
END:VCALENDAR