BEGIN:VCALENDAR
VERSION:2.0
PRODID:-//Stadtgeschichte München//DE
CALSCALE:GREGORIAN
BEGIN:VEVENT
UID:23370@stadtgeschichte-muenchen.de
SUMMARY:Entdeckungen zwischen den Pasing Arcaden und dem Knie
DESCRIPTION:&lt;p&gt;Eines der letzten Neubaubereiche in Pasing entsteht beidseits des Paseo bzw. der Promenade von den Pasing-Arcaden Richtung Knie auf dem Gelände des ehemaligen Stückgutbahnhofes. Hier gibt es Vieles zu entdecken. Sichtbar sind bereits der Neubauriegel zur Josef-Felder-Straße mit seinem Nachbarschaftstreff, die Bebauung an der Offenbachstraße, eine neue Grünanlage und die Bebauung rund um die denkmalgeschützte Kuvertfabrik. Noch auf seine Realisierung warten das neue Kulturbürgerhaus und das geplante Hochhaus Am Knie. Bei unserem Spaziergang sehen wir, was bereits entstanden ist und anhand der Pläne und Visualisierungen, was in naher Zukunft dort noch entstehen wird.&lt;/p&gt; &lt;p&gt;&lt;a href=&quot;https://www.mvhs.de/kurse/muenchen-unsere-stadt/muenchen-umgebung-entdecken/muenchen-heute-stadtviertel-entdecken/muenchner-westen/entdeckungen-zwischen-den-pasing-arcaden-und-dem-knie-460-C-R125583#&quot;&gt;&amp;nbsp; Kurs in den Warenkorb legen&lt;/a&gt;&lt;/p&gt; &lt;p&gt;&amp;nbsp;&lt;/p&gt; &lt;ul&gt; &lt;/ul&gt; 
DTSTART:20231014T140000
DTEND:20231014T153000
LOCATION:S-Bahnhof Pasing August-Exter-Str.
ORGANIZER:MVHS
END:VEVENT
END:VCALENDAR