BEGIN:VCALENDAR
VERSION:2.0
PRODID:-//Stadtgeschichte München//DE
CALSCALE:GREGORIAN
BEGIN:VEVENT
UID:23387@stadtgeschichte-muenchen.de
SUMMARY:Der Nymphenburger Friedhof - ein Memento mori
DESCRIPTION:&lt;p&gt;Im November des Jahres 1875 wurde der Nymphenburger Friedhof eingeweiht. Die Geschichte des Stadtteils bzw. der ehemals selbstständigen Gemeinde Nymphenburg lässt sich an diesem Gottesacker deutlich machen. Hier sind viele bedeutende Persönlichkeiten aus Kunst, Wirtschaft, Politik und Wissenschaft begraben. Daneben ruhen hier zahlreiche interessante Bewohner Nymphenburgs. Ein Gang durch einen fast unbekannten ehemaligen Dorffriedhof.&lt;/p&gt; &lt;p&gt;In Zusammenarbeit mit der Geschichtswerkstatt Neuhausen e. V.&lt;/p&gt; &lt;p&gt;&amp;nbsp;&lt;/p&gt; &lt;ul&gt; &lt;/ul&gt; 
DTSTART:20231104T140000
DTEND:20231104T160000
LOCATION:Friedhofseingang Maria-Ward-Str. 10
ORGANIZER:MVHS
END:VEVENT
END:VCALENDAR