BEGIN:VCALENDAR
VERSION:2.0
PRODID:-//Stadtgeschichte München//DE
CALSCALE:GREGORIAN
BEGIN:VEVENT
UID:23440@stadtgeschichte-muenchen.de
SUMMARY:Der Hitlerputsch und seine Folgen
DESCRIPTION:&lt;p&gt;Der Rundgang erinnert an den Hitlerputsch vor 100 Jahren. Am 9. November 1923 versuchte Hitler mit einem Putsch die Staatsgewalt an sich zu reißen. Die Putschisten erklärten die Reichsregierung für abgesetzt und verkündeten eine „nationale Revolution“. Der Putsch scheiterte: Hitler wurde zu fünf Jahren Festungshaft verurteilt, 1924 aber vorzeitig aus der Haft entlassen.&lt;/p&gt; &lt;p&gt;Ausgehend vom Putschversuch beleuchtet der Rundgang Ereignisse, Strukturen und Mechanismen, die die Weimarer Demokratie zum Scheitern brachten und zur NS-Herrschaft führten. Nach der ‚Machtübernahme‘ stellte das NS-Regime dieses Ereignis in den Mittelpunkt seiner Propaganda: Der Putsch wurde zu einem zentralen Element des NS-Kults an der Feldherrnhalle und am Königsplatz.&lt;/p&gt; 
DTSTART:20231110T170000
DTEND:20231110T183000
LOCATION:NS-Dokumentationszentrum München, Treffpunkt: Foyer
ORGANIZER:NS-Dokumentationszentrum München
END:VEVENT
END:VCALENDAR