BEGIN:VCALENDAR
VERSION:2.0
PRODID:-//Stadtgeschichte München//DE
CALSCALE:GREGORIAN
BEGIN:VEVENT
UID:23463@stadtgeschichte-muenchen.de
SUMMARY:Die Hochbausammlung – überlieferte Baugeschichte Münchens
DESCRIPTION:&lt;p&gt;Das Stadtarchiv München, Winzererstraße 68, lädt im Rahmen seiner Veranstaltungsreihe „Einblicke“ am Dienstag, 5. Dezember, 18.30 Uhr, zur Veranstaltung „Die Hochbausammlung – überlieferte Baugeschichte Münchens“ ein. Pia Frendeborg und Christine Maurer geben Einblicke in die vielfältige Überlieferung der Pläne und Fotografien im Bestand Hochbausammlung. Die Veranstaltung ist barrierefrei. Der Zugang ist über den Hof möglich.&lt;/p&gt; 
DTSTART:20231205T183000
DTEND:20231205T193000
LOCATION:Winzererstraße 68
ORGANIZER:Staatsarchiv München
END:VEVENT
END:VCALENDAR