BEGIN:VCALENDAR
VERSION:2.0
PRODID:-//Stadtgeschichte München//DE
CALSCALE:GREGORIAN
BEGIN:VEVENT
UID:23490@stadtgeschichte-muenchen.de
SUMMARY:Brandgefährlich - Feuer in der Stadt
DESCRIPTION:&lt;p&gt;Angela Stilwell zeigt die umfangreiche Überlieferung der Münchner Feuerwehr im Bestand Branddirektion&lt;/p&gt; 
DTSTART:20240716T183000
DTEND:20240716T193000
LOCATION:Winzererstraße 68
ORGANIZER:Staatsarchiv München
END:VEVENT
END:VCALENDAR