BEGIN:VCALENDAR
VERSION:2.0
PRODID:-//Stadtgeschichte München//DE
CALSCALE:GREGORIAN
BEGIN:VEVENT
UID:24340@stadtgeschichte-muenchen.de
SUMMARY:Das Geheimnis des blauen Diamanten
DESCRIPTION:&lt;p&gt;Die Schatzkammer der Münchner Residenz zählt zu den bedeutendsten ihrer Art. Der Kunsthistoriker Dr. Falk Bachter erläutert eine Auswahl der kostbarsten Kunstgegenstände aus nahezu zehn Jahrhunderten. Zu den Prunkstücken gehören oft spannende Geschichten. So ist das Palladium der Residenz, die St.-Georgs-Statuette, eigentlich ein Reliquienschrein. Auch das rätselhafte Verschwinden und Wiederauftauchen des großen blauen Diamanten in der Wittelsbacher Königskrone von 1806 wird uns beschäftigen.&lt;/p&gt; 
DTSTART:20240518T140000
DTEND:20240518T160000
LOCATION:Kassenraum Königsbauhof
ORGANIZER:MVHS München Mitte   
END:VEVENT
END:VCALENDAR