BEGIN:VCALENDAR
VERSION:2.0
PRODID:-//Stadtgeschichte München//DE
CALSCALE:GREGORIAN
BEGIN:VEVENT
UID:24429@stadtgeschichte-muenchen.de
SUMMARY:Von sichtbaren und unsichtbaren Dienern am Hofe des Kurfürsten
DESCRIPTION:&lt;p&gt;Hinter den Kulissen haben zahlreiche königliche Bedienstete ihre Aufgaben verrichtet. Ob Kammerdiener, Hofdame, Küchenjunge oder Lampenputzer – sie sollen uns in dieser Führung beschäftigen.&lt;br /&gt; &amp;nbsp;&lt;/p&gt; &lt;p&gt;Die Führung dauert etwa 90 Minuten und ist für Kinder von 6-10 Jahren geeignet (erwachsene Begleitperson erforderlich).&lt;br /&gt; Treffpunkt: Kasse Neues Schloss Schleißheim&lt;br /&gt; Kosten: 3,- Euro pro Person (+ Eintritt)&lt;br /&gt; Ohne Anmeldung – Die Teilnehmerzahl ist auf 25 Personen beschränkt. Tickets sind am Veranstaltungstag an der Museumskasse erhältlich; Reservierungen sind leider nicht möglich. Besorgen Sie sich Ihr Führungsticket bitte rechtzeitig an der Kasse!&lt;/p&gt; &lt;p&gt;&amp;nbsp;&lt;/p&gt; 
DTSTART:20240407T140000
DTEND:20240407T153000
LOCATION:
ORGANIZER:Bayerische Schlösserverwaltung
END:VEVENT
END:VCALENDAR