BEGIN:VCALENDAR
VERSION:2.0
PRODID:-//Stadtgeschichte München//DE
CALSCALE:GREGORIAN
BEGIN:VEVENT
UID:25454@stadtgeschichte-muenchen.de
SUMMARY:Gut-gebrüllt-Löwe 
DESCRIPTION:&lt;p&gt;Ihr meint, Stadtgeschichte sei langweilig? Ganz und gar nicht! Ihr werdet von Brandstiftern, Drachen und Teufeln hören, die Geheimnisse mittelalterlicher Bauten entschlüsseln und mit uns zusammen eintauchen in die mittelalterliche Welt der Ritter, Herzöge und Baumeister. Stadtgeschichte als Abenteuerreise! Begleitet uns auf unserer “Gut-gebrüllt-Löwe” (ab 5 Jahren)&lt;/p&gt;
DTSTART:20250124T140000
DTEND:20250124T160000
LOCATION:Mariensäule / Marienplatz
ORGANIZER:Die Stadtdetektive  - Stadtführungen für Kinder und Erwachsene
END:VEVENT
END:VCALENDAR