BEGIN:VCALENDAR
VERSION:2.0
PRODID:-//Stadtgeschichte München//DE
CALSCALE:GREGORIAN
BEGIN:VEVENT
UID:25535@stadtgeschichte-muenchen.de
SUMMARY:Kammerkonzert zum 80. Jahrestag der Befreiung
DESCRIPTION:&lt;p&gt;Mitglieder der Münchner Philharmoniker und des Israel Philharmonic Orchestra gedenken mit diesem gemeinsamen Konzert allen Künstler*innen, die in bedrohlicher Gegenwart von Unterdrückung und Verfolgung Zuflucht in ihrer Kunst fanden oder aus ideologischen Gründen nicht aufgeführt werden durften.&lt;/p&gt;
DTSTART:20250504T110000
DTEND:20250504T130000
LOCATION:Künstlerhaus, Lenbachplatz 8
ORGANIZER:Münchner Philharmonike
END:VEVENT
END:VCALENDAR