BEGIN:VCALENDAR
VERSION:2.0
PRODID:-//Stadtgeschichte München//DE
CALSCALE:GREGORIAN
BEGIN:VEVENT
UID:27027@stadtgeschichte-muenchen.de
SUMMARY:Stadt in Trümmern. Herbert List und die Ruinenfotografie
DESCRIPTION:&lt;p&gt;2025 jährt sich das Ende des Zweiten Weltkriegs zum 80. Mal. Aus diesem Anlass zeigt die Sammlung Fotografie des Münchner Stadtmuseums eine Auswahl von Trümmerfotografien der direkten Nachkriegszeit. Das Herzstück bildet ein Zyklus von Ruinenbildern, die der 1945 nach München zurückgekehrte Fotograf Herbert List (1903–1975) auf seinen Streifzügen durch die zerstörte Stadt festhielt. Lists berührendes Stadtporträt ist weiteren Aufnahmen von Amateur*innen und professionellen, im Auftrag entstandenen Postkarten und Bildberichten gegenübergestellt.&lt;/p&gt;&lt;p&gt;Mit Marion Glaser, Wissenschaftliche Mitarbeiterin, Sammlung Fotografie, Münchner Stadtmuseum. Der inhaltliche Schwerpunkt der Führung liegt auf Recherche und Ausstellungsrealisation.&lt;/p&gt;
DTSTART:20251211T170000
DTEND:20251211T180000
LOCATION:Rathausgalerie, Marienplatz 8
ORGANIZER:Stadtarchiv München
END:VEVENT
END:VCALENDAR